BEGIN:VCALENDAR
VERSION:2.0
PRODID:-//My Calendar//http://www.joedolson.com//v3.2.13//EN
METHOD:PUBLISH
CALSCALE:GREGORIAN
X-WR-CALNAME:VAPT
X-PUBLISHED-TTL:PT24H
REFRESH-INTERVAL;VALUE=DURATION:PT24H
X-WR-CALDESC:Events from VAPT
BEGIN:VEVENT
UID:15-11
LOCATION:
SUMMARY:Psychoanalytic Film Night - Only The Animals at Palace Cinemas
DTSTAMP:20210121T180000
ORGANIZER;CN=admin:MAILTO:admin@vapt.org.au
DTSTART;TZID=Australia/Melbourne:20210121T180000
DTEND;TZID=Australia/Melbourne:20210121T190000
URL;VALUE=URI:http://vapt.org.au/?page_id=151
DESCRIPTION:Welcome back to the VAPT psychoanalytic film series! Have you missed us? We've sure missed you.Our first film of 2021 is going to look a little different. Thanks to the DHHS RANZCP Workforce Support grant we’ve been able to shift to a bigger cinema, but we’ll still be bringing you the screening, the chats and the catchups. You don’t mess with perfection."Only The Animals" (2019) is a tense French tangle, weaving together 5 characters narratives after a woman's car is found abandoned on the road in a snow storm.Leading the post film discussion will be:Dr Paul Cammell, who needs little intro (but here it is anyway). The chair of advanced psychotherapy training, Paul works as a public consultant in Melbourne whilst running his private practice. He has an extensive background in philosophy, has written the book (literally a thesis) on BPD and possesses a vast knowledge of film.Second speaker TBC (soon).As always, we love mates (feel free to bring yours, especially if they are from other disciplines!). Tickets are only $9 plus a small booking fee. They’re limited and can be nabbed here:https://is.gd/Cm20C4 
CATEGORIES:General
END:VEVENT
BEGIN:VEVENT
UID:14-10
LOCATION:
SUMMARY:VAPT end of year dinner - FREE... WITH A BAR TAB!!!
DTSTAMP:20171124T183000
ORGANIZER;CN=KatherineTan:MAILTO:katherinelitan@gmail.com
DTSTART;TZID=Australia/Melbourne:20171124T183000
DTEND;TZID=Australia/Melbourne:20171124T210000
URL;VALUE=URI:http://vapt.org.au/?page_id=151
DESCRIPTION:https://www.eventbrite.com/e/vapt-end-of-year-dinner-tickets-37976283085 (see facebook group or email committee for the event password) 
CATEGORIES:1
END:VEVENT
BEGIN:VEVENT
UID:13-9
LOCATION:
SUMMARY:VAPT essay exam weekend workshop
DTSTAMP:20171021T090000
ORGANIZER;CN=KatherineTan:MAILTO:katherinelitan@gmail.com
DTSTART;TZID=Australia/Melbourne:20171021T090000
DTEND;TZID=Australia/Melbourne:20171021T130000
URL;VALUE=URI:http://vapt.org.au/?page_id=151
DESCRIPTION:only $30 to cover cost of catering!!! (plus and education expense so a potential tax deduction!!!) https://www.eventbrite.com/e/vapt-essay-exam-weekend-workshop-tickets-38378087894 
CATEGORIES:1
END:VEVENT
BEGIN:VEVENT
UID:12-8
LOCATION:
SUMMARY:VAPT Essay Examination Weekend Workshop - 1 North, Royal Melbourne Hospital, 300 Grattan St, Parkville
DTSTAMP:20171021T090000
ORGANIZER;CN=KatherineTan:MAILTO:katherinelitan@gmail.com
DTSTART;TZID=Australia/Melbourne:20171021T090000
DTEND;TZID=Australia/Melbourne:20171021T130000
URL;VALUE=URI:http://vapt.org.au/?page_id=151
DESCRIPTION:only $30 to cover cost of catering!!! (plus and education expense so a potential tax deduction!!!) https://www.eventbrite.com/e/vapt-essay-exam-weekend-workshop-tickets-38378087894 
CATEGORIES:1
END:VEVENT
BEGIN:VEVENT
UID:11-7
LOCATION:
SUMMARY:Next VAPT meeting Wednesday 1st November at 7pm @ The Alps (64 Commercial Rd, Prahran VIC 3181)
DTSTAMP:20171101T190000
ORGANIZER;CN=KatherineTan:MAILTO:katherinelitan@gmail.com
DTSTART;TZID=Australia/Melbourne:20171101T190000
DTEND;TZID=Australia/Melbourne:20171101T203000
URL;VALUE=URI:http://vapt.org.au/?page_id=151
DESCRIPTION: 
CATEGORIES:1
END:VEVENT
BEGIN:VEVENT
UID:10-6
LOCATION:
SUMMARY:VAPT MCQ evening 13th July, 6:30pm at The Last Jar (616 Elizabeth st Melbourne).
DTSTAMP:20170713T000000
ORGANIZER;CN=KatherineTan:MAILTO:katherinelitan@gmail.com
DTSTART;TZID=Australia/Melbourne:20170713T000000
DTEND;TZID=Australia/Melbourne:20170714T000000
URL;VALUE=URI:http://vapt.org.au/?page_id=151
DESCRIPTION:Hear advice from Consultants &amp; Senior Registrars about planning and studying for the MCQ Exam, and navigating early RANZCP Training.Gold coin donation. Dinner/drinks available at the bar....There is limited capacity, so to reserve a spot please RSVP via this link: https://goo.gl/forms/FaLJQTYa5VVxMInm2 
CATEGORIES:1
X-FUNAMBOL-ALLDAY: 1
X-MICROSOFT-CDO-ALLDAYEVENT: TRUE

END:VEVENT
BEGIN:VEVENT
UID:9-5
LOCATION:
SUMMARY:VAPT meeting Tuesday 8th of August @ 7pm at The Alps (Prahran)
DTSTAMP:20170808T190000
ORGANIZER;CN=KatherineTan:MAILTO:katherinelitan@gmail.com
DTSTART;TZID=Australia/Melbourne:20170808T190000
DTEND;TZID=Australia/Melbourne:20170808T203000
URL;VALUE=URI:http://vapt.org.au/?page_id=151
DESCRIPTION:Our next VAPT meeting will be Tuesday 8th of August @ 7pm at The Alps (thanks @Hannah Dbson for the south-side recommendation).64 Commercial Rd, Prahran 3181 - it's a short walk from Prahran train station or the 72 tramSee you there!Please send through any agenda items, attendances or apologies to secretary@VAPT.org.au.VAPT meetings are open to all Victorian psychiatry trainees however there is no obligation to attend meetings.For rural trainees we can also look into technology options for calling in. 
CATEGORIES:1
END:VEVENT
BEGIN:VEVENT
UID:8-4
LOCATION:
SUMMARY:VAPT Committee Meeting
DTSTAMP:20150528T190000
ORGANIZER;CN=Rahul Khanna:MAILTO:rahul.melbourne@gmail.com
DTSTART;TZID=Australia/Melbourne:20150528T190000
DTEND;TZID=Australia/Melbourne:20150528T210000
URL;VALUE=URI:http://vapt.org.au/?page_id=151
DESCRIPTION: 
CATEGORIES:1
END:VEVENT
BEGIN:VEVENT
UID:7-3
LOCATION:
SUMMARY:VAPT Written Exam Night
DTSTAMP:20150601T183000
ORGANIZER;CN=Rahul Khanna:MAILTO:rahul.melbourne@gmail.com
DTSTART;TZID=Australia/Melbourne:20150601T183000
DTEND;TZID=Australia/Melbourne:20150601T213000
URL;VALUE=URI:http://vapt.org.au/?p=160
DESCRIPTION: http://vapt.org.au/?p=160
CATEGORIES:1
END:VEVENT
BEGIN:VEVENT
UID:6-2
LOCATION:
SUMMARY:[Sponsored] Inside the Mind of the Examiner
DTSTAMP:20150530T093000
ORGANIZER;CN=Rahul Khanna:MAILTO:rahul.melbourne@gmail.com
DTSTART;TZID=Australia/Melbourne:20150530T093000
DTEND;TZID=Australia/Melbourne:20150530T160000
URL;VALUE=URI:http://vapt.org.au/?p=143
DESCRIPTION: http://vapt.org.au/?p=143
CATEGORIES:1
END:VEVENT
BEGIN:VEVENT
UID:2-1
LOCATION:Temple Brewery
SUMMARY:Underbelly Social Night
DTSTAMP:20150501T190000
ORGANIZER;CN=Rahul Khanna:MAILTO:rahul.melbourne@gmail.com
DTSTART;TZID=Australia/Melbourne:20150501T190000
DTEND;TZID=Australia/Melbourne:20150501T234500
URL;VALUE=URI:http://vapt.org.au/?p=136
DESCRIPTION:From 7pm onwards http://vapt.org.au/?p=136
CATEGORIES:1
END:VEVENT
END:VCALENDAR